BEGIN:VCALENDAR
VERSION:2.0
PRODID:-//Puyallup Main Street Association - ECPv6.14.2//NONSGML v1.0//EN
CALSCALE:GREGORIAN
METHOD:PUBLISH
X-WR-CALNAME:Puyallup Main Street Association
X-ORIGINAL-URL:https://www.puyallupmainstreet.com
X-WR-CALDESC:Events for Puyallup Main Street Association
REFRESH-INTERVAL;VALUE=DURATION:PT1H
X-Robots-Tag:noindex
X-PUBLISHED-TTL:PT1H
BEGIN:VTIMEZONE
TZID:America/Los_Angeles
BEGIN:DAYLIGHT
TZOFFSETFROM:-0800
TZOFFSETTO:-0700
TZNAME:PDT
DTSTART:20250309T100000
END:DAYLIGHT
BEGIN:STANDARD
TZOFFSETFROM:-0700
TZOFFSETTO:-0800
TZNAME:PST
DTSTART:20251102T090000
END:STANDARD
END:VTIMEZONE
BEGIN:VEVENT
DTSTART;TZID=America/Los_Angeles:20250508T090000
DTEND;TZID=America/Los_Angeles:20250508T100000
DTSTAMP:20260419T093229
CREATED:20250107T221659Z
LAST-MODIFIED:20250107T222110Z
UID:9620-1746694800-1746698400@www.puyallupmainstreet.com
SUMMARY:Promotions Meeting
DESCRIPTION:
URL:https://www.puyallupmainstreet.com/event-info/promotions-meeting-2-2025-01-09/2025-05-08/
END:VEVENT
BEGIN:VEVENT
DTSTART;TZID=America/Los_Angeles:20250510T130000
DTEND;TZID=America/Los_Angeles:20250510T170000
DTSTAMP:20260419T093229
CREATED:20250107T222622Z
LAST-MODIFIED:20250107T222622Z
UID:9666-1746882000-1746896400@www.puyallupmainstreet.com
SUMMARY:SIP Puyallup
DESCRIPTION:
URL:https://www.puyallupmainstreet.com/event-info/sip-puyallup-4/
END:VEVENT
BEGIN:VEVENT
DTSTART;TZID=America/Los_Angeles:20250519T173000
DTEND;TZID=America/Los_Angeles:20250519T173000
DTSTAMP:20260419T093229
CREATED:20240412T213344Z
LAST-MODIFIED:20240412T213344Z
UID:9228-1747675800-1747675800@www.puyallupmainstreet.com
SUMMARY:PMSA Board Meeting
DESCRIPTION:
URL:https://www.puyallupmainstreet.com/event-info/pmsa-board-meeting-2/2025-05-19/
LOCATION:PMSA Office\, 118 W MAIN\, PUYALLUP\, WA\, 98371-5330\, United States
END:VEVENT
END:VCALENDAR