BEGIN:VCALENDAR
VERSION:2.0
PRODID:-//Puyallup Main Street Association - ECPv6.14.2//NONSGML v1.0//EN
CALSCALE:GREGORIAN
METHOD:PUBLISH
X-ORIGINAL-URL:https://www.puyallupmainstreet.com
X-WR-CALDESC:Events for Puyallup Main Street Association
REFRESH-INTERVAL;VALUE=DURATION:PT1H
X-Robots-Tag:noindex
X-PUBLISHED-TTL:PT1H
BEGIN:VTIMEZONE
TZID:America/Los_Angeles
BEGIN:DAYLIGHT
TZOFFSETFROM:-0800
TZOFFSETTO:-0700
TZNAME:PDT
DTSTART:20130310T100000
END:DAYLIGHT
BEGIN:STANDARD
TZOFFSETFROM:-0700
TZOFFSETTO:-0800
TZNAME:PST
DTSTART:20131103T090000
END:STANDARD
END:VTIMEZONE
BEGIN:VEVENT
DTSTART;TZID=America/Los_Angeles:20130919T180000
DTEND;TZID=America/Los_Angeles:20130919T193000
DTSTAMP:20260423T060116
CREATED:20130813T191140Z
LAST-MODIFIED:20130813T232040Z
UID:2464-1379613600-1379619000@www.puyallupmainstreet.com
SUMMARY:Business After Hours at the Fair
DESCRIPTION:By Invitation Only\nThe Washington State Fair\, Puyallup Main Street Association\, and the  Puyallup-Sumner Chamber of Commerce will partner to host a private reception and dinner in celebration of community\, with an evening of fun\, fair food\, frivolity and family entertainment. \nThis is a perfect time for PMSA & Chamber members to gather to network\, socialize and support other local businesses.  There is a table to place promotional items on\, hors d’oeuvres\, beverages\, and prizes\, don’t forget your business cards! \nEvent will be held on September 19th from 6 to 7:30 p.m. \nPMSA Members ~ Watch for your invitation by mail. \nRSVP by September 10th \nNot a member yet? Learn how to get involved here.
URL:https://www.puyallupmainstreet.com/event-info/business-after-hours-at-the-fair/
LOCATION:Puyallup Fair Grounds\, 110 9th Avenue Southwest \, Puyallup \, WA\, 98371\, United States
CATEGORIES:Member Events
ORGANIZER;CN="PMSA":MAILTO:info@puyallupmainstreet.com
END:VEVENT
END:VCALENDAR